BEGIN:VCALENDAR
VERSION:2.0
PRODID:-//PromoWest//PromoWestLive.com//EN
CALSCALE:GREGORIAN
BEGIN:VEVENT
UID:https://promowestlive.com/pittsburgh/stage-ae/2026/11/streetlight-manif
 esto-the-presence-of-the-past-tour2
DTSTAMP:20260421T235402Z
SUMMARY:Streetlight Manifesto: The Presence of the Past Tour
DTSTART;TZID=America/New_York:20261121T190000
DTEND;TZID=America/New_York:20261121T220000
DESCRIPTION:with Streetlight Manifesto\, Hot Rod Circuit
LOCATION:Stage AE\n400 North Shore Drive\nPittsburgh\, PA 15212
URL;VALUE=URI:https://promowestlive.com/pittsburgh/stage-ae/2026/11/streetl
 ight-manifesto-the-presence-of-the-past-tour2
END:VEVENT
END:VCALENDAR
