BEGIN:VCALENDAR
VERSION:2.0
PRODID:-//PromoWest//PromoWestLive.com//EN
CALSCALE:GREGORIAN
BEGIN:VEVENT
UID:https://promowestlive.com/pittsburgh/stage-ae/2026/09/black-label-socie
 ty
DTSTAMP:20260421T173326Z
SUMMARY:Black Label Society
DTSTART;TZID=America/New_York:20260918T180000
DTEND;TZID=America/New_York:20260918T210000
DESCRIPTION:with Zakk Sabbath\, Dark Chapel
LOCATION:Stage AE\n400 North Shore Drive\nPittsburgh\, PA 15212
URL;VALUE=URI:https://promowestlive.com/pittsburgh/stage-ae/2026/09/black-l
 abel-society
END:VEVENT
END:VCALENDAR
