BEGIN:VCALENDAR
VERSION:2.0
PRODID:-//PromoWest//PromoWestLive.com//EN
CALSCALE:GREGORIAN
BEGIN:VEVENT
UID:https://promowestlive.com/pittsburgh/stage-ae/2026/07/bob-dylan
DTSTAMP:20260420T085935Z
SUMMARY:Bob Dylan
DTSTART;TZID=America/New_York:20260712T170000
DTEND;TZID=America/New_York:20260712T200000
DESCRIPTION:with Jimmie Vaughan And The Tilt-A-Whirl Band\, Brittney Spence
 r
LOCATION:Stage AE\n400 North Shore Drive\nPittsburgh\, PA 15212
URL;VALUE=URI:https://promowestlive.com/pittsburgh/stage-ae/2026/07/bob-dyl
 an
END:VEVENT
END:VCALENDAR
