BEGIN:VCALENDAR
VERSION:2.0
PRODID:-//PromoWest//PromoWestLive.com//EN
CALSCALE:GREGORIAN
BEGIN:VEVENT
UID:https://promowestlive.com/columbus/newport-music-hall/2026/11/palace-us
 a-canada-tour-2026
DTSTAMP:20260424T174420Z
SUMMARY:Palace – USA & Canada Tour 2026
DTSTART;TZID=America/New_York:20261114T190000
DTEND;TZID=America/New_York:20261114T220000
DESCRIPTION:with Palace
LOCATION:Newport Music Hall\n1722 North High Street\nColumbus\, OH 43201
URL;VALUE=URI:https://promowestlive.com/columbus/newport-music-hall/2026/11
 /palace-usa-canada-tour-2026
END:VEVENT
END:VCALENDAR
