BEGIN:VCALENDAR
VERSION:2.0
PRODID:-//PromoWest//PromoWestLive.com//EN
CALSCALE:GREGORIAN
BEGIN:VEVENT
UID:https://promowestlive.com/columbus/newport-music-hall/2026/10/the-damne
 d-final-damnation-50
DTSTAMP:20260421T173825Z
SUMMARY:THE DAMNED – FINAL DAMNATION 50
DTSTART;TZID=America/New_York:20261030T180000
DTEND;TZID=America/New_York:20261030T210000
DESCRIPTION:with The Damned\, Flamin' Groovies\, The Courettes
LOCATION:Newport Music Hall\n1722 North High Street\nColumbus\, OH 43201
URL;VALUE=URI:https://promowestlive.com/columbus/newport-music-hall/2026/10
 /the-damned-final-damnation-50
END:VEVENT
END:VCALENDAR
