BEGIN:VCALENDAR
VERSION:2.0
PRODID:-//PromoWest//PromoWestLive.com//EN
CALSCALE:GREGORIAN
BEGIN:VEVENT
UID:https://promowestlive.com/columbus/newport-music-hall/2026/09/jane-remo
 ver
DTSTAMP:20260420T201606Z
SUMMARY:Jane Remover
DTSTART;TZID=America/New_York:20260918T190000
DTEND;TZID=America/New_York:20260918T220000
DESCRIPTION:with Dazegxd
LOCATION:Newport Music Hall\n1722 North High Street\nColumbus\, OH 43201
URL;VALUE=URI:https://promowestlive.com/columbus/newport-music-hall/2026/09
 /jane-remover
END:VEVENT
END:VCALENDAR
