BEGIN:VCALENDAR
VERSION:2.0
PRODID:-//PromoWest//PromoWestLive.com//EN
CALSCALE:GREGORIAN
BEGIN:VEVENT
UID:https://promowestlive.com/columbus/newport-music-hall/2026/09/jane-remo
 ver-live-exhibit
DTSTAMP:20260422T170931Z
SUMMARY:Jane Remover: Live Exhibit
DTSTART;TZID=America/New_York:20260918T190000
DTEND;TZID=America/New_York:20260918T220000
DESCRIPTION:with Jane Remover\, Dazegxd
LOCATION:Newport Music Hall\n1722 North High Street\nColumbus\, OH 43201
URL;VALUE=URI:https://promowestlive.com/columbus/newport-music-hall/2026/09
 /jane-remover-live-exhibit
END:VEVENT
END:VCALENDAR
