BEGIN:VCALENDAR
VERSION:2.0
PRODID:-//PromoWest//PromoWestLive.com//EN
CALSCALE:GREGORIAN
BEGIN:VEVENT
UID:https://promowestlive.com/columbus/newport-music-hall/2026/06/earlybird
 s-club2
DTSTAMP:20260421T174037Z
SUMMARY:Earlybirds Club
DTSTART;TZID=America/New_York:20260627T180000
DTEND;TZID=America/New_York:20260627T210000
DESCRIPTION:
LOCATION:Newport Music Hall\n1722 North High Street\nColumbus\, OH 43201
URL;VALUE=URI:https://promowestlive.com/columbus/newport-music-hall/2026/06
 /earlybirds-club2
END:VEVENT
END:VCALENDAR
