BEGIN:VCALENDAR
VERSION:2.0
PRODID:-//PromoWest//PromoWestLive.com//EN
CALSCALE:GREGORIAN
BEGIN:VEVENT
UID:https://promowestlive.com/columbus/kemba-live/2026/11/streetlight-manif
 esto-the-presence-of-the-past-tour
DTSTAMP:20260421T235222Z
SUMMARY:Streetlight Manifesto: The Presence of the Past Tour
DTSTART;TZID=America/New_York:20261122T190000
DTEND;TZID=America/New_York:20261122T220000
DESCRIPTION:with Streetlight Manifesto\, Hot Rod Circuit
LOCATION:KEMBA Live!\n405 Neil Avenue\nColumbus\, OH 43215
URL;VALUE=URI:https://promowestlive.com/columbus/kemba-live/2026/11/streetl
 ight-manifesto-the-presence-of-the-past-tour
END:VEVENT
END:VCALENDAR
