BEGIN:VCALENDAR
VERSION:2.0
PRODID:-//PromoWest//PromoWestLive.com//EN
CALSCALE:GREGORIAN
BEGIN:VEVENT
UID:https://promowestlive.com/columbus/kemba-live/2026/06/42-dugg-and-babyf
 ace-ray-4-the-trenches-tour
DTSTAMP:20260419T115427Z
SUMMARY:42 DUGG AND BABYFACE RAY – 4 THE TRENCHES TOUR
DTSTART;TZID=America/New_York:20260602T190000
DTEND;TZID=America/New_York:20260602T220000
DESCRIPTION:with 42 Dugg\, Babyface Ray
LOCATION:KEMBA Live!\n405 Neil Avenue\nColumbus\, OH 43215
URL;VALUE=URI:https://promowestlive.com/columbus/kemba-live/2026/06/42-dugg
 -and-babyface-ray-4-the-trenches-tour
END:VEVENT
END:VCALENDAR
