BEGIN:VCALENDAR
VERSION:2.0
PRODID:-//PromoWest//PromoWestLive.com//EN
CALSCALE:GREGORIAN
BEGIN:VEVENT
UID:https://promowestlive.com/columbus/a-and-r-music-bar/2026/10/failure
DTSTAMP:20260421T174206Z
SUMMARY:Failure
DTSTART;TZID=America/New_York:20261011T183000
DTEND;TZID=America/New_York:20261011T213000
DESCRIPTION:with quannnic
LOCATION:A&R Music Bar\n391 Neil Ave\nColumbus\, OH 43215
URL;VALUE=URI:https://promowestlive.com/columbus/a-and-r-music-bar/2026/10/
 failure
END:VEVENT
END:VCALENDAR
