BEGIN:VCALENDAR
VERSION:2.0
PRODID:-//PromoWest//PromoWestLive.com//EN
CALSCALE:GREGORIAN
BEGIN:VEVENT
UID:https://promowestlive.com/cincinnati/megacorp-pavilion/2026/10/modest-m
 ouse
DTSTAMP:20260421T174316Z
SUMMARY:Modest Mouse
DTSTART;TZID=America/New_York:20261001T183000
DTEND;TZID=America/New_York:20261001T213000
DESCRIPTION:with Caroline Rose
LOCATION:MegaCorp Pavilion\n101 W 4th Street\nNewport\, KY 41071
URL;VALUE=URI:https://promowestlive.com/cincinnati/megacorp-pavilion/2026/1
 0/modest-mouse
END:VEVENT
END:VCALENDAR
